BEGIN:VCALENDAR
VERSION:2.0
PRODID:-//jEvents 2.0 for Joomla//EN
CALSCALE:GREGORIAN
METHOD:PUBLISH
BEGIN:VEVENT
UID:ddcc5ebd5f053e6c302cec22661c678b
CATEGORIES:Gemeinde
CREATED:20231217T113518
SUMMARY:Funkübung 
DESCRIPTION:Funkübung der Gemeinde Hohenhameln\nGerätehaus Hohenhameln\nKarsten Dolatka
 \n
X-ALT-DESC;FMTTYPE=text/html:<p>Funkübung der Gemeinde Hohenhameln</p><p>Gerätehaus Hohenhameln</p><p>Ka
 rsten Dolatka</p>
DTSTAMP:20260422T014723
DTSTART:20240424T163000
DTEND:20240424T190000
SEQUENCE:0
TRANSP:OPAQUE
END:VEVENT
END:VCALENDAR