BEGIN:VCALENDAR
VERSION:2.0
PRODID:-//jEvents 2.0 for Joomla//EN
CALSCALE:GREGORIAN
METHOD:PUBLISH
BEGIN:VEVENT
UID:1de25b24b565a0d49ce88728f84e64cf
CATEGORIES:Gemeinde
CREATED:20231217T113634
SUMMARY:Funkübung
DESCRIPTION:<p>Funkübung der Gemeinde Hohenhameln</p><p>Gerätehaus Hohenhameln</p><p>Ka
 rsten Dolatka</p>
DTSTAMP:20260421T222201
DTSTART:20240612T163000
DTEND:20240612T190000
SEQUENCE:0
TRANSP:OPAQUE
END:VEVENT
END:VCALENDAR