BEGIN:VCALENDAR
VERSION:2.0
PRODID:-//jEvents 2.0 for Joomla//EN
CALSCALE:GREGORIAN
METHOD:PUBLISH
BEGIN:VEVENT
UID:4bc2c612c2855cccd9907fcabc9578a9
CATEGORIES:Gemeinde
CREATED:20231217T113809
SUMMARY:Funkübung
DESCRIPTION:Funkübung der Gemeinde Hohenhameln\nGerätehaus Hohenhameln\nKarsten Dolatka
 \n
X-ALT-DESC;FMTTYPE=text/html:<p>Funkübung der Gemeinde Hohenhameln</p><p>Gerätehaus Hohenhameln</p><p>Ka
 rsten Dolatka</p>
DTSTAMP:20260421T231337
DTSTART:20240925T163000
DTEND:20240925T190000
SEQUENCE:0
TRANSP:OPAQUE
END:VEVENT
END:VCALENDAR