BEGIN:VCALENDAR
VERSION:2.0
PRODID:-//jEvents 2.0 for Joomla//EN
CALSCALE:GREGORIAN
METHOD:PUBLISH
BEGIN:VEVENT
UID:79d9be1519216c83f10bb1e0b28233d0
CATEGORIES:Gemeinde
CREATED:20240103T153031
SUMMARY:Zugübung FZ Personalreserve
DESCRIPTION:Zugübung des Fachzuges Personalreserve\nSchützenplatz /Gerätehaus Hohenhame
 ln\nZugführer J.Böker\n
X-ALT-DESC;FMTTYPE=text/html:<p>Zugübung des Fachzuges Personalreserve</p><p>Schützenplatz /Gerätehaus H
 ohenhameln</p><p>Zugführer J.Böker</p>
DTSTAMP:20260422T074425
DTSTART:20240420T050000
DTEND:20240420T140000
SEQUENCE:0
TRANSP:OPAQUE
END:VEVENT
END:VCALENDAR