BEGIN:VCALENDAR
VERSION:2.0
PRODID:-//jEvents 2.0 for Joomla//EN
CALSCALE:GREGORIAN
METHOD:PUBLISH
BEGIN:VEVENT
UID:81caa17bdcb014a3ad80c7827cb0347d
CATEGORIES:Gemeinde
CREATED:20240103T153335
SUMMARY:Zugübung FZ Personalreserve
DESCRIPTION:Zugübung des Fachzuges Personalreserve\nSchützenplatz /Gerätehaus Hohenhame
 ln\nZugführer J.Böker\n
X-ALT-DESC;FMTTYPE=text/html:<p>Zugübung des Fachzuges Personalreserve</p><p>Schützenplatz /Gerätehaus H
 ohenhameln</p><p>Zugführer J.Böker</p>
DTSTAMP:20260421T211736
DTSTART:20240920T160000
DTEND:20240920T190000
SEQUENCE:0
TRANSP:OPAQUE
END:VEVENT
END:VCALENDAR