BEGIN:VCALENDAR
VERSION:2.0
PRODID:-//jEvents 2.0 for Joomla//EN
CALSCALE:GREGORIAN
METHOD:PUBLISH
BEGIN:VEVENT
UID:8db130c478a25e6bd262e9b75809f312
CATEGORIES:Gemeinde
CREATED:20240103T154710
SUMMARY:AGT Leistungsnachweis
DESCRIPTION:<p>AGT Leistungsnachweis in der FTZ</p><p>Gemeindeatemschutzbeauftragte</p>
 <p>Sabrina Welge-Ulbrich</p><p>&nbsp;</p><p>&nbsp;</p><p>&nbsp;</p><p>&nbsp
 ;</p><table border="1" cellpadding="10" align="center"><tbody><tr><td>&nbsp
 ;</td><td>&nbsp;</td></tr></tbody></table>
DTSTAMP:20260423T022433
DTSTART:20240130T171500
SEQUENCE:0
TRANSP:OPAQUE
END:VEVENT
END:VCALENDAR