BEGIN:VCALENDAR
VERSION:2.0
PRODID:-//jEvents 2.0 for Joomla//EN
CALSCALE:GREGORIAN
METHOD:PUBLISH
BEGIN:VEVENT
UID:df122b967e57883a38bc491ff830925d
CATEGORIES:Gemeinde
CREATED:20240103T155023
SUMMARY:AGT Leistungsnachweis
DESCRIPTION:AGT Leistungsnachweis in der FTZ\nGemeindeatemschutzbeauftragte\nSabrina We
 lge-Ulbrich\n
X-ALT-DESC;FMTTYPE=text/html:<p>AGT Leistungsnachweis in der FTZ</p><p>Gemeindeatemschutzbeauftragte</p>
 <p>Sabrina Welge-Ulbrich</p>
DTSTAMP:20260422T014737
DTSTART:20240604T060000
SEQUENCE:0
TRANSP:OPAQUE
END:VEVENT
END:VCALENDAR