BEGIN:VCALENDAR
VERSION:2.0
PRODID:-//jEvents 2.0 for Joomla//EN
CALSCALE:GREGORIAN
METHOD:PUBLISH
BEGIN:VEVENT
UID:ad52665e998b72a956e4de9ce2aa1440
CATEGORIES:Hohenhameln
CREATED:20240103T192108
SUMMARY:Allgemeiner Übungsdienst
DESCRIPTION:Allgemeiner Übungsdienst der Ortswehr Hohenhameln\nGerätehaus\n
X-ALT-DESC;FMTTYPE=text/html:<p>Allgemeiner Übungsdienst der Ortswehr Hohenhameln</p><p>Gerätehaus</p>
DTSTAMP:20260422T071342
DTSTART:20240326T183000
DTEND:20240326T200000
SEQUENCE:0
TRANSP:OPAQUE
END:VEVENT
END:VCALENDAR