BEGIN:VCALENDAR
VERSION:2.0
PRODID:-//jEvents 2.0 for Joomla//EN
CALSCALE:GREGORIAN
METHOD:PUBLISH
BEGIN:VEVENT
UID:9e71b1047bed795b195ac2a84ea75a27
CATEGORIES:Hohenhameln
CREATED:20240103T192448
SUMMARY:Allgemeiner Übungsdienst
DESCRIPTION:Allgemeiner Übungsdienst der Ortswehr Hohenhameln\nGerätehaus\n
X-ALT-DESC;FMTTYPE=text/html:<p>Allgemeiner Übungsdienst der Ortswehr Hohenhameln</p><p>Gerätehaus</p>
DTSTAMP:20260422T132836
DTSTART:20240625T173000
DTEND:20240625T190000
SEQUENCE:0
TRANSP:OPAQUE
END:VEVENT
END:VCALENDAR