BEGIN:VCALENDAR
VERSION:2.0
PRODID:-//jEvents 2.0 for Joomla//EN
CALSCALE:GREGORIAN
METHOD:PUBLISH
BEGIN:VEVENT
UID:84cd0dd9ccfa56288c9275672a06d08f
CATEGORIES:Gemeinde
CREATED:20240103T193237
SUMMARY:Kreis-JFV-Verbandstag
DESCRIPTION:Versammlung des Kreis Jugendfeuerwehr Verband.\n
X-ALT-DESC;FMTTYPE=text/html:<p>Versammlung des Kreis Jugendfeuerwehr Verband.</p>
DTSTAMP:20260422T220801
DTSTART:20240312T070000
SEQUENCE:0
TRANSP:OPAQUE
END:VEVENT
END:VCALENDAR