BEGIN:VCALENDAR
VERSION:2.0
PRODID:-//jEvents 2.0 for Joomla//EN
CALSCALE:GREGORIAN
METHOD:PUBLISH
BEGIN:VEVENT
UID:7076169e37e306738abd05a1465208ec
CATEGORIES:Gemeinde
CREATED:20240103T193837
SUMMARY:JF Leistungsvergleich
DESCRIPTION:Leistungsvergleich der Jugendfeuewehren\nEdemissen\n
X-ALT-DESC;FMTTYPE=text/html:<p>Leistungsvergleich der Jugendfeuewehren</p><p>Edemissen</p>
DTSTAMP:20260422T072335
DTSTART:20240602T060000
SEQUENCE:0
TRANSP:OPAQUE
END:VEVENT
END:VCALENDAR