BEGIN:VCALENDAR
VERSION:2.0
PRODID:-//jEvents 2.0 for Joomla//EN
CALSCALE:GREGORIAN
METHOD:PUBLISH
BEGIN:VEVENT
UID:a39b33c89ab17f7b75d45b5c7ccc23ba
CATEGORIES:Gemeinde
CREATED:20240103T194104
SUMMARY:Kreisfeuerwehrverbandstag 
DESCRIPTION:Kreisfeuerwehrverbandstag in Edemissen\n \n
X-ALT-DESC;FMTTYPE=text/html:<p>Kreisfeuerwehrverbandstag in Edemissen</p><p>&nbsp;</p>
DTSTAMP:20260421T222507
DTSTART:20240616T073000
SEQUENCE:0
TRANSP:OPAQUE
END:VEVENT
END:VCALENDAR