BEGIN:VCALENDAR
VERSION:2.0
PRODID:-//jEvents 2.0 for Joomla//EN
CALSCALE:GREGORIAN
METHOD:PUBLISH
BEGIN:VEVENT
UID:591e04d04af4a1c578a0155fb0eff8c1
CATEGORIES:Gemeinde
CREATED:20240103T194358
SUMMARY:Leistungsvergleich Kreis
DESCRIPTION:<p>Kreiswettkämpfe LK Peine</p><p>Gadenstedt</p>
DTSTAMP:20260422T012224
DTSTART:20240825T060000
SEQUENCE:0
TRANSP:OPAQUE
END:VEVENT
END:VCALENDAR