BEGIN:VCALENDAR
VERSION:2.0
PRODID:-//jEvents 2.0 for Joomla//EN
CALSCALE:GREGORIAN
METHOD:PUBLISH
BEGIN:VEVENT
UID:27e22e40bd8ba23083caf0ec7dfeb6d3
CATEGORIES:Gemeinde
CREATED:20240105T081341
SUMMARY:Kleiderkammer
DESCRIPTION:<div class="jev_evdt_desc"><p>Kleiderkammertermine 2024</p><p>08.02.24</p><
 p>07.03.24</p><p>04.04.24</p><p>02.05.24</p><p>06.06.24</p><p>08.08.24</p><
 p>05.09.24</p><p>07.11.24</p><p>05.12.24</p><p>In den Monaten Juli &amp; Ok
 tober bleibt die Kleiderkammer geschlossen.</p><p>Kleiderkammerwart Anne St
 rübe</p><p>Stellv. Kleiderkammerwart Sebastian Strelau</p><p><a href="index
 .php/funktionen/kleiderkammer/1116-category-1116"></a><a href="index.php/fu
 nktionen/kleiderkammer/1116-category-1116"></a><a href="index.php/funktione
 n/kleiderkammer/1116-category-1116">https://ff-hohenhameln.de/index.php/fun
 ktionen/kleiderkammer/1116-category-1116</a></p></div>
X-ALT-DESC;FMTTYPE=text/html:<div class="jev_evdt_desc"><p>Kleiderkammertermine 2024</p><p>08.02.24</p><
 p>07.03.24</p><p>04.04.24</p><p>02.05.24</p><p>06.06.24</p><p>08.08.24</p><
 p>05.09.24</p><p>07.11.24</p><p>05.12.24</p><p>In den Monaten Juli &amp; Ok
 tober bleibt die Kleiderkammer geschlossen.</p><p>Kleiderkammerwart Anne St
 rübe</p><p>Stellv. Kleiderkammerwart Sebastian Strelau</p><p><a href="https
 ://www.ff-hohenhameln.de/index.php/funktionen/kleiderkammer/1116-category-1
 116"></a><a href="https://www.ff-hohenhameln.de/index.php/funktionen/kleide
 rkammer/1116-category-1116"></a><a href="https://www.ff-hohenhameln.de/inde
 x.php/funktionen/kleiderkammer/1116-category-1116">https://ff-hohenhameln.d
 e/index.php/funktionen/kleiderkammer/1116-category-1116</a></p></div>
DTSTAMP:20260422T000818
DTSTART:20240502T153000
DTEND:20240502T163000
SEQUENCE:0
TRANSP:OPAQUE
END:VEVENT
END:VCALENDAR