BEGIN:VCALENDAR
VERSION:2.0
PRODID:-//jEvents 2.0 for Joomla//EN
CALSCALE:GREGORIAN
METHOD:PUBLISH
BEGIN:VEVENT
UID:cc9a26aea6abe50330d17a491305991b
CATEGORIES:Gemeinde
CREATED:20240105T081428
SUMMARY:Kleiderkammer
DESCRIPTION:Kleiderkammertermine 2024\n08.02.24\n07.03.24\n04.04.24\n02.05.24\n06.06.24
 \n08.08.24\n05.09.24\n07.11.24\n05.12.24\nIn den Monaten Juli &amp; Oktober
  bleibt die Kleiderkammer geschlossen.\nKleiderkammerwart Anne Strübe\nStel
 lv. Kleiderkammerwart Sebastian Strelau\n (index.php/funktionen/kleiderkamm
 er/1116-category-1116) (index.php/funktionen/kleiderkammer/1116-category-11
 16)https://ff-hohenhameln.de/index.php/funktionen/kleiderkammer/1116-catego
 ry-1116\n
X-ALT-DESC;FMTTYPE=text/html:<div class="jev_evdt_desc"><p>Kleiderkammertermine 2024</p><p>08.02.24</p><
 p>07.03.24</p><p>04.04.24</p><p>02.05.24</p><p>06.06.24</p><p>08.08.24</p><
 p>05.09.24</p><p>07.11.24</p><p>05.12.24</p><p>In den Monaten Juli &amp; Ok
 tober bleibt die Kleiderkammer geschlossen.</p><p>Kleiderkammerwart Anne St
 rübe</p><p>Stellv. Kleiderkammerwart Sebastian Strelau</p><p><a href="https
 ://www.ff-hohenhameln.de/index.php/funktionen/kleiderkammer/1116-category-1
 116"></a><a href="https://www.ff-hohenhameln.de/index.php/funktionen/kleide
 rkammer/1116-category-1116"></a><a href="https://www.ff-hohenhameln.de/inde
 x.php/funktionen/kleiderkammer/1116-category-1116">https://ff-hohenhameln.d
 e/index.php/funktionen/kleiderkammer/1116-category-1116</a></p></div>
DTSTAMP:20260422T000305
DTSTART:20240606T153000
DTEND:20240606T163000
SEQUENCE:0
TRANSP:OPAQUE
END:VEVENT
END:VCALENDAR