BEGIN:VCALENDAR
VERSION:2.0
PRODID:-//jEvents 2.0 for Joomla//EN
CALSCALE:GREGORIAN
METHOD:PUBLISH
BEGIN:VEVENT
UID:3dfcf1d200c1b967b4bf95a9aa82ff2e
CATEGORIES:JFW Mehrum
CREATED:20240106T132524
SUMMARY:Kreiswettkämpfe
LOCATION:Gerätehaus Mehrum
DESCRIPTION:
CONTACT:https://ff-hohenhameln.de/index.php/jugend-und-kinder/jfw-mehrum
DTSTAMP:20260421T133734
DTSTART:20240602T060000
DTEND:20240602T140000
SEQUENCE:0
TRANSP:OPAQUE
END:VEVENT
END:VCALENDAR