BEGIN:VCALENDAR
VERSION:2.0
PRODID:-//jEvents 2.0 for Joomla//EN
CALSCALE:GREGORIAN
METHOD:PUBLISH
BEGIN:VEVENT
UID:b792d3c560ec3ef0effb801ce92ba16f
CATEGORIES:JFW Mehrum
CREATED:20240106T132654
SUMMARY:Ortswettkämpfe
LOCATION:Gerätehaus Mehrum
DESCRIPTION:
CONTACT:https://ff-hohenhameln.de/index.php/jugend-und-kinder/jfw-mehrum
DTSTAMP:20260421T102059
DTSTART:20240615T130000
DTEND:20240615T160000
SEQUENCE:0
TRANSP:OPAQUE
END:VEVENT
END:VCALENDAR