BEGIN:VCALENDAR
VERSION:2.0
PRODID:-//jEvents 2.0 for Joomla//EN
CALSCALE:GREGORIAN
METHOD:PUBLISH
BEGIN:VEVENT
UID:00ee52434e6daf3277107a0bf250a255
CATEGORIES:JFW Mehrum
CREATED:20240106T133101
SUMMARY:Kürbisschnitzen
LOCATION:Gerätehaus Mehrum
DESCRIPTION:
CONTACT:https://ff-hohenhameln.de/index.php/jugend-und-kinder/jfw-mehrum
DTSTAMP:20260421T214536
DTSTART:20241031T140000
DTEND:20241031T170000
SEQUENCE:0
TRANSP:OPAQUE
END:VEVENT
END:VCALENDAR