BEGIN:VCALENDAR
VERSION:2.0
PRODID:-//jEvents 2.0 for Joomla//EN
CALSCALE:GREGORIAN
METHOD:PUBLISH
BEGIN:VEVENT
UID:3755c7bddd1cafacb29b11b3862ab4b3
CATEGORIES:Hohenhameln
CREATED:20240116T083718
SUMMARY:Übungsdienst 5.Gruppe
DESCRIPTION:Übungsdienst der 5:Gruppe\nGerätehaus\nGF W.Both\n
X-ALT-DESC;FMTTYPE=text/html:<p>Übungsdienst der 5:Gruppe</p><p>Gerätehaus</p><p>GF W.Both</p>
DTSTAMP:20260423T050107
DTSTART:20240208T183000
DTEND:20240208T200000
SEQUENCE:0
TRANSP:OPAQUE
END:VEVENT
END:VCALENDAR