BEGIN:VCALENDAR
VERSION:2.0
PRODID:-//jEvents 2.0 for Joomla//EN
CALSCALE:GREGORIAN
METHOD:PUBLISH
BEGIN:VEVENT
UID:175212c4b9b2bf5c91161a676cf70b16
CATEGORIES:Hohenhameln
CREATED:20240116T084957
SUMMARY:Übungsdienst 5.Gruppe
DESCRIPTION:Übungsdienst der 5:Gruppe\nGerätehaus\nGF W.Both\n
X-ALT-DESC;FMTTYPE=text/html:<p>Übungsdienst der 5:Gruppe</p><p>Gerätehaus</p><p>GF W.Both</p>
DTSTAMP:20260422T011710
DTSTART:20240627T173000
DTEND:20240627T190000
SEQUENCE:0
TRANSP:OPAQUE
END:VEVENT
END:VCALENDAR