BEGIN:VCALENDAR
VERSION:2.0
PRODID:-//jEvents 2.0 for Joomla//EN
CALSCALE:GREGORIAN
METHOD:PUBLISH
BEGIN:VEVENT
UID:ad96d691fe547b2028bdc6caded4008b
CATEGORIES:Hohenhameln
CREATED:20240116T085140
SUMMARY:Übungsdienst 5.Gruppe
DESCRIPTION:<p>Übungsdienst der 5:Gruppe</p><p>Gerätehaus</p><p>GF W.Both</p>
DTSTAMP:20260422T015334
DTSTART:20240725T173000
DTEND:20240725T190000
SEQUENCE:0
TRANSP:OPAQUE
END:VEVENT
END:VCALENDAR