BEGIN:VCALENDAR
VERSION:2.0
PRODID:-//jEvents 2.0 for Joomla//EN
CALSCALE:GREGORIAN
METHOD:PUBLISH
BEGIN:VEVENT
UID:e6a1e4c54d6cb5f48e119058d3285375
CATEGORIES:Hohenhameln
CREATED:20240116T085516
SUMMARY:Übungsdienst 5.Gruppe
DESCRIPTION:<p>Übungsdienst der 5:Gruppe</p><p>Gerätehaus</p><p>GF W.Both</p>
DTSTAMP:20260421T214531
DTSTART:20240919T173000
DTEND:20240919T190000
SEQUENCE:0
TRANSP:OPAQUE
END:VEVENT
END:VCALENDAR