BEGIN:VCALENDAR
VERSION:2.0
PRODID:-//jEvents 2.0 for Joomla//EN
CALSCALE:GREGORIAN
METHOD:PUBLISH
BEGIN:VEVENT
UID:64f27745b6dbeb4cbba14d7272da0bf8
CATEGORIES:Hohenhameln
CREATED:20240116T085605
SUMMARY:Übungsdienst 5.Gruppe
DESCRIPTION:<p>Übungsdienst der 5:Gruppe</p><p>Gerätehaus</p><p>GF W.Both</p>
DTSTAMP:20260422T012209
DTSTART:20241017T173000
DTEND:20241017T190000
SEQUENCE:0
TRANSP:OPAQUE
END:VEVENT
END:VCALENDAR