BEGIN:VCALENDAR
VERSION:2.0
PRODID:-//jEvents 2.0 for Joomla//EN
CALSCALE:GREGORIAN
METHOD:PUBLISH
BEGIN:VEVENT
UID:6c4168580d7f66179d58699daef64f26
CATEGORIES:Hohenhameln
CREATED:20240116T085807
SUMMARY:Übungsdienst 5.Gruppe
DESCRIPTION:<p>Übungsdienst der 5:Gruppe</p><p>Gerätehaus</p><p>GF W.Both</p>
DTSTAMP:20260423T022456
DTSTART:20241128T183000
DTEND:20241128T200000
SEQUENCE:0
TRANSP:OPAQUE
END:VEVENT
END:VCALENDAR