BEGIN:VCALENDAR
VERSION:2.0
PRODID:-//jEvents 2.0 for Joomla//EN
CALSCALE:GREGORIAN
METHOD:PUBLISH
BEGIN:VEVENT
UID:a66c0f61512fa10f04a8dd62e13a4d20
CATEGORIES:Mehrum
CREATED:20241220T080645
SUMMARY:Zugübung
LOCATION:Feuerwehr Mehrum
DESCRIPTION:
X-EXTRAINFO:Thema: Erste Hilfe/MANV/KatS
DTSTAMP:20260421T153210
DTSTART:20250221T170000
DTEND:20250221T210000
SEQUENCE:0
TRANSP:OPAQUE
END:VEVENT
END:VCALENDAR