BEGIN:VCALENDAR
VERSION:2.0
PRODID:-//jEvents 2.0 for Joomla//EN
CALSCALE:GREGORIAN
METHOD:PUBLISH
BEGIN:VEVENT
UID:3fd1c7d1a9499591a5173df2788affd4
CATEGORIES:Gemeinde
CREATED:20241221T143745
SUMMARY:FGG: Beladung GWG
LOCATION:Hohenhameln
DESCRIPTION:Beladung GWG
CONTACT:Fachgruppe Gefahrgut
DTSTAMP:20260422T012204
DTSTART:20250227T180000
DTEND:20250227T210000
SEQUENCE:0
TRANSP:OPAQUE
END:VEVENT
END:VCALENDAR