BEGIN:VCALENDAR
VERSION:2.0
PRODID:-//jEvents 2.0 for Joomla//EN
CALSCALE:GREGORIAN
METHOD:PUBLISH
BEGIN:VEVENT
UID:1e5f81e102e671705c31a87ceca90cab
CATEGORIES:Hohenhameln
CREATED:20250120T132202
SUMMARY:Gruppenabend 1:Gruppe
DESCRIPTION:Gruppenabend 1 Gruppe\nThore Lindemann\n
X-ALT-DESC;FMTTYPE=text/html:<p>Gruppenabend 1 Gruppe</p><p>Thore Lindemann</p>
DTSTAMP:20260424T225834
DTSTART:20250507T173000
DTEND:20250423T193000
SEQUENCE:0
TRANSP:OPAQUE
END:VEVENT
END:VCALENDAR